BEGIN:VCALENDAR
VERSION:2.0
PRODID:-//Plone.org//NONSGML plone.app.event//EN
X-WR-TIMEZONE:Brazil/East
BEGIN:VEVENT
SUMMARY:Entrega do Prêmio Profissional Destaque da Segurança Pública
DTSTART;TZID=Brazil/East;VALUE=DATE-TIME:20260423T090000
DTEND;TZID=Brazil/East;VALUE=DATE-TIME:20260423T100000
DTSTAMP;VALUE=DATE-TIME:20260423T051802Z
UID:13deef4e63a749dda67be432ce24ef6a@www.fozdoiguacu.pr.leg.br
CATEGORIES:#2026
CATEGORIES:#Segurança
CATEGORIES:#Premiação
CREATED;VALUE=DATE-TIME:20260326T150117Z
DESCRIPTION:Sessão Solene de Entrega do Prêmio Profissional Destaque da 
 Segurança Pública\, outorgado aos profissionais da Segurança Pública q
 ue atuam no Município de Foz do Iguaçu\, em atendimento à lei municipal
  nº 5.464\, de 14 de agosto de 2024.
LAST-MODIFIED;VALUE=DATE-TIME:20260326T150704Z
LOCATION:Local: Plenário “Ignácio de Sá Sottomaior” da Câmara (Tra
 vessa Oscar Muxfeldt\, nº 81 – Centro)
URL:https://www.fozdoiguacu.pr.leg.br/institucional/eventos/entrega-do-pre
 mio-profissional-destaque-da-seguranca-publica-1
END:VEVENT
BEGIN:VTIMEZONE
TZID:Brazil/East
X-LIC-LOCATION:Brazil/East
BEGIN:STANDARD
DTSTART;VALUE=DATE-TIME:20260221T230000
TZNAME:BRT
TZOFFSETFROM:-0200
TZOFFSETTO:-0300
END:STANDARD
END:VTIMEZONE
END:VCALENDAR
