BEGIN:VCALENDAR
VERSION:2.0
PRODID:-//Plone.org//NONSGML plone.app.event//EN
X-WR-TIMEZONE:Brazil/East
BEGIN:VEVENT
SUMMARY:1ª Sessão Ordinária do Mês de Dezembro
DTSTART;TZID=Brazil/East;VALUE=DATE-TIME:20181204T090000
DTEND;TZID=Brazil/East;VALUE=DATE-TIME:20181204T120000
DTSTAMP;VALUE=DATE-TIME:20260424T101339Z
UID:d579f7a0fb4547c6b22320efa51ca944@www.fozdoiguacu.pr.leg.br
CATEGORIES:#sessãoordinária
CREATED;VALUE=DATE-TIME:20180831T154657Z
LAST-MODIFIED;VALUE=DATE-TIME:20180831T154700Z
LOCATION:Plenário da Câmara Municipal de Foz do Iguaçu - Travessa Oscar
  Muxfeldt\, 81 - Centro\, Foz do Iguaçu - PR
URL:https://www.fozdoiguacu.pr.leg.br/institucional/eventos/1a-sessao-ordi
 naria-do-mes-de-dezembro
END:VEVENT
BEGIN:VTIMEZONE
TZID:Brazil/East
X-LIC-LOCATION:Brazil/East
BEGIN:DAYLIGHT
DTSTART;VALUE=DATE-TIME:20181021T010000
TZNAME:BRST
TZOFFSETFROM:-0300
TZOFFSETTO:-0200
END:DAYLIGHT
END:VTIMEZONE
END:VCALENDAR
