BEGIN:VCALENDAR
VERSION:2.0
PRODID:-//Plone.org//NONSGML plone.app.event//EN
X-WR-TIMEZONE:Brazil/East
BEGIN:VEVENT
SUMMARY:CANCELADA Audiência Pública Acidentes com Caçambas de Entulhos
DTSTART;TZID=Brazil/East;VALUE=DATE-TIME:20181121T190000
DTEND;TZID=Brazil/East;VALUE=DATE-TIME:20181121T220000
DTSTAMP;VALUE=DATE-TIME:20260424T101339Z
UID:2b19713822174af6b8947f2f99586c92@fozdoiguacu.pr.leg.br
CATEGORIES:#AudiênciaPública
CREATED;VALUE=DATE-TIME:20180918T141108Z
DESCRIPTION:CANCELADA Audiência Pública para debate acerca dos frequente
 s acidentes envolvendo automóveis\, motos e caçambas de entulhos no muni
 cípio\, em atendimento ao Requerimento nº 257/2018\, de autoria do Verea
 dor João Miranda.
LAST-MODIFIED;VALUE=DATE-TIME:20181121T123210Z
LOCATION:Plenário da Câmara Municipal de Foz do Iguaçu - Travessa Oscar
  Muxfeldt\, 81 - Centro\, Foz do Iguaçu - PR
URL:https://www.fozdoiguacu.pr.leg.br/institucional/eventos/audiencia-publ
 ica-acidentes-com-cacambas-de-entulhos
END:VEVENT
BEGIN:VTIMEZONE
TZID:Brazil/East
X-LIC-LOCATION:Brazil/East
BEGIN:DAYLIGHT
DTSTART;VALUE=DATE-TIME:20181021T010000
TZNAME:BRST
TZOFFSETFROM:-0300
TZOFFSETTO:-0200
END:DAYLIGHT
END:VTIMEZONE
END:VCALENDAR
