BEGIN:VCALENDAR
VERSION:2.0
PRODID:-//Plone.org//NONSGML plone.app.event//EN
X-WR-TIMEZONE:Brazil/East
BEGIN:VEVENT
SUMMARY:Audiência Pública - Bosque Guarani
DTSTART;TZID=Brazil/East;VALUE=DATE-TIME:20230417T090000
DTSTAMP;VALUE=DATE-TIME:20260424T163112Z
UID:fa7486c789a44e6e8625aeb6e86eaef2@www.fozdoiguacu.pr.leg.br
CATEGORIES:#AudiênciaPública
CATEGORIES:#2023
CREATED;VALUE=DATE-TIME:20230314T170626Z
DESCRIPTION:Audiência Pública para debater o futuro da área do Zoológi
 co Bosque Guarani após o plano de desmobilização\, em atendimento ao Re
 querimento nº 263/2022 (https://bit.ly/3JC90Zi)\, de autoria do Vereador 
 Adnan El Sayed.
LAST-MODIFIED;VALUE=DATE-TIME:20230314T170641Z
LOCATION:Plenário “Ignácio de Sá Sottomaior” da Câmara\, que se lo
 caliza na Travessa Oscar Muxfeldt\, nº 81 – Centro
URL:https://www.fozdoiguacu.pr.leg.br/institucional/eventos/audiencia-publ
 ica-bosque-guarani
END:VEVENT
BEGIN:VTIMEZONE
TZID:Brazil/East
X-LIC-LOCATION:Brazil/East
BEGIN:STANDARD
DTSTART;VALUE=DATE-TIME:20230225T230000
TZNAME:BRT
TZOFFSETFROM:-0200
TZOFFSETTO:-0300
END:STANDARD
END:VTIMEZONE
END:VCALENDAR
