BEGIN:VCALENDAR
VERSION:2.0
PRODID:-//Plone.org//NONSGML plone.app.event//EN
X-WR-TIMEZONE:Brazil/East
BEGIN:VEVENT
SUMMARY:Audiência Pública Quadrimestral da Saúde (SMSA)
DTSTART;TZID=Brazil/East;VALUE=DATE-TIME:20200228T083000
DTEND;TZID=Brazil/East;VALUE=DATE-TIME:20200228T113000
DTSTAMP;VALUE=DATE-TIME:20260425T212955Z
UID:dc9c3e69f36841d1b4711b4b1c04f4b7@www.fozdoiguacu.pr.leg.br
CATEGORIES:#PoderExecutivo
CATEGORIES:#AudiênciaPública
CATEGORIES:#EmpréstimodePlenário
CATEGORIES:#Prestaçãodecontas
CREATED;VALUE=DATE-TIME:20200220T163215Z
DESCRIPTION:Audiência Pública promovida pela Secretaria Municipal da Sa
 úde\, para apresentação do relatório de gestão referente ao terceiro 
 quadrimestre de 2019.
LAST-MODIFIED;VALUE=DATE-TIME:20200220T163236Z
LOCATION:Plenário da Câmara Municipal de Foz do Iguaçu - Travessa Oscar
  Muxfeldt\, nº 81 - Centro - Foz do Iguaçu - Paraná - Brasil
URL:https://www.fozdoiguacu.pr.leg.br/institucional/eventos/audiencia-publ
 ica-quadrimestral-da-saude-smsa
END:VEVENT
BEGIN:VTIMEZONE
TZID:Brazil/East
X-LIC-LOCATION:Brazil/East
BEGIN:STANDARD
DTSTART;VALUE=DATE-TIME:20200215T230000
TZNAME:BRT
TZOFFSETFROM:-0200
TZOFFSETTO:-0300
END:STANDARD
END:VTIMEZONE
END:VCALENDAR
