BEGIN:VCALENDAR
VERSION:2.0
PRODID:-//Plone.org//NONSGML plone.app.event//EN
X-WR-TIMEZONE:Brazil/East
BEGIN:VEVENT
SUMMARY:Audiência Pública Vendedores Ambulantes
DTSTART;TZID=Brazil/East;VALUE=DATE-TIME:20181126T190000
DTEND;TZID=Brazil/East;VALUE=DATE-TIME:20181126T220000
DTSTAMP;VALUE=DATE-TIME:20260424T234441Z
UID:43f417f9cdf5438ca13076c3c390b099@fozdoiguacu.pr.leg.br
CATEGORIES:#AudiênciaPública
CREATED;VALUE=DATE-TIME:20180918T141808Z
DESCRIPTION:Audiência Pública para debate acerca da regularização das 
 atividades de vendedores ambulantes em atividade no município\, em atendi
 mento ao Requerimento nº 265/2018\, de autoria da Vereadora Rosane Bonho.
LAST-MODIFIED;VALUE=DATE-TIME:20180918T141814Z
LOCATION:Plenário da Câmara Municipal de Foz do Iguaçu - Travessa Oscar
  Muxfeldt\, 81 - Centro\, Foz do Iguaçu - PR\, Brasil
URL:https://www.fozdoiguacu.pr.leg.br/institucional/eventos/audiencia-publ
 ica-vendedores-ambulantes
END:VEVENT
BEGIN:VTIMEZONE
TZID:Brazil/East
X-LIC-LOCATION:Brazil/East
BEGIN:DAYLIGHT
DTSTART;VALUE=DATE-TIME:20181021T010000
TZNAME:BRST
TZOFFSETFROM:-0300
TZOFFSETTO:-0200
END:DAYLIGHT
END:VTIMEZONE
END:VCALENDAR
